BEGIN:VCALENDAR
VERSION:2.0
PRODID:-//Firearm License Canada
CALSCALE:GREGORIAN
METHOD:PUBLISH
X-WR-CALNAME:Firearm License Canada
X-ORIGINAL-URL:https://firearmlicense.ca/product/canadian-firearms-safety-course-cfsc-canadian-restricted-firearms-safety-course-cfrsc-bundle-apr-11-12-2026/
X-WR-CALDESC:Canadian Firearms Safety Course (CFSC) &#038; Canadian Restricted Firearms Safety Course (CFRSC) Bundle (Apr 11-12, 2026)
BEGIN:VEVENT
DTSTART;TZID=America/Halifax:20260411T080000
DTEND;TZID=America/Halifax:20260412T170000
SUMMARY:Canadian Firearms Safety Course (CFSC) & Canadian Restricted Firearms Safety Course (CFRSC) Bundle (Apr 11-12, 2026)
DESCRIPTION:Combo Pack! Both CFSC and CRFSC Courses CANADIAN FIREARMS SAFETY COURSE (CFSC) The Canadian Firearms Safety Course (CFSC) is very informative and designed to teach you everything you need to learn in order to be successful in both the written and practical exams. The CFSC includes 8 to 10 hours of classroom instruction which includes a slide presentation, discussion, and hands on training with the recommended selection of firearms. When you attend the class, each student is issued with the official student manual that is an excellent resource and guideline for the training session. CANADIAN RESTRICTED FIREARMS SAFETY COURSE (CRFSC) The Canadian Firearms Safety Course (CRFSC) is very also informative and designed to teach you everything you need to learn in order to be successful in both the written and practical exams. The CRFSC includes 6 to 8 hours of classroom instruction which includes a slide presentation, discussion, and hands on training with the recommended selection of 3 restricted firearms. &nbsp;
URL:https://firearmlicense.ca/product/canadian-firearms-safety-course-cfsc-canadian-restricted-firearms-safety-course-cfrsc-bundle-apr-11-12-2026/
LOCATION:155 Mostar Street, Whitchurch-Stouffville, ON, Canada
END:VEVENT
END:VCALENDAR
